BEGIN:VCALENDAR
VERSION:2.0
PRODID: -//Q4 Inc.//EN
METHOD:PUBLISH
BEGIN:VTIMEZONE
TZID:America/New_York
X-LIC-LOCATION:America/New_York
BEGIN:DAYLIGHT
TZOFFSETFROM:-0500
TZOFFSETTO:-0400
TZNAME:EDT
DTSTART:19700308T020000
RRULE:FREQ=YEARLY;BYMONTH=3;BYDAY=2SU
END:DAYLIGHT
BEGIN:STANDARD
TZOFFSETFROM:-0400
TZOFFSETTO:-0500
TZNAME:EST
DTSTART:19701101T020000
RRULE:FREQ=YEARLY;BYMONTH=11;BYDAY=1SU
END:STANDARD
END:VTIMEZONE
BEGIN:VEVENT
ORGANIZER:MAILTO:info@blank.q4web.com
DTSTART;TZID="America/New_York":20160604T190000
DTEND;TZID="America/New_York":20160604T190000
LOCATION:
UID:33454424-dd91-4b24-a9b3-fe5ec6727349
DTSTAMP:20260424T163713
SUMMARY:Bristol-Myers Squibb Investor Event: ASCO 2016
DESCRIPTION: View More Information: https://bristolmyers2016ir.q4web.com/iframes/events-and-presentations/event-details/2016/Bristol-Myers-Squibb-Investor-Event-ASCO-2016/default.aspx
URL;VALUE=URI:https://bristolmyers2016ir.q4web.com/iframes/events-and-presentations/event-details/2016/Bristol-Myers-Squibb-Investor-Event-ASCO-2016/default.aspx
PRIORITY:5
CLASS:PUBLIC
END:VEVENT
END:VCALENDAR
